BEGIN:VCALENDAR
PRODID:-//Microsoft Corporation//Outlook 12.0 MIMEDIR//EN
VERSION:2.0
METHOD:PUBLISH
BEGIN:VEVENT
CLASS:PUBLIC
ORGANIZER:MAILTO:drummerjordanglenn@gmail.com
DTSTART:20260508T020000Z
LOCATION:Shapeshifters Cinema, 567 5th St. Oakland
PRIORITY:5
UID:20260419T123534Z@https://www.bayimproviser.com/
DTSTAMP:20260419T123534Z
SUMMARY:The Do-Over Music Series at Shapeshifters Cinema
DESCRIPTION:The Do-Over Music Series at Shapeshifters Cinema
END:VEVENT
END:VCALENDAR