BEGIN:VCALENDAR
PRODID:-//Microsoft Corporation//Outlook 12.0 MIMEDIR//EN
VERSION:2.0
METHOD:PUBLISH
BEGIN:VEVENT
CLASS:PUBLIC
ORGANIZER:MAILTO:johnlee@bayimproviser.com
DTSTART:20260510T023000Z
LOCATION:Dresher Ensemble Studio, 2201 Poplar St Oakland
PRIORITY:5
UID:20260422T050356Z@https://www.bayimproviser.com/
DTSTAMP:20260422T050356Z
SUMMARY:Sarah Cahill celebrating Terry Riley ?Ninety Trips Around the Sun?
DESCRIPTION:Sarah Cahill celebrating Terry Riley ?Ninety Trips Around the Sun?
END:VEVENT
END:VCALENDAR