BEGIN:VCALENDAR
PRODID:-//Microsoft Corporation//Outlook 12.0 MIMEDIR//EN
VERSION:2.0
METHOD:PUBLISH
BEGIN:VEVENT
CLASS:PUBLIC
ORGANIZER:MAILTO:johnlee@bayimproviser.com
DTSTART:20260517T030000Z
LOCATION:Dresher Ensemble Studio, 2201 Poplar St Oakland
PRIORITY:5
UID:20260422T050547Z@https://www.bayimproviser.com/
DTSTAMP:20260422T050547Z
SUMMARY:Clara Yang : Ex Machina (piano and projected media)
DESCRIPTION:Clara Yang : Ex Machina (piano and projected media)
END:VEVENT
END:VCALENDAR