BEGIN:VCALENDAR
PRODID:-//Microsoft Corporation//Outlook 12.0 MIMEDIR//EN
VERSION:2.0
METHOD:PUBLISH
BEGIN:VEVENT
CLASS:PUBLIC
ORGANIZER:MAILTO:david@audium.org
DTSTART:20260509T023000Z
LOCATION:Audium, 1616 Bush Street
PRIORITY:5
UID:20260423T105557Z@https://www.bayimproviser.com/
DTSTAMP:20260423T105557Z
SUMMARY:The Moment: Alex Abalos & Roco C?rdova at Audium
DESCRIPTION:The Moment: Alex Abalos & Roco C?rdova at Audium
END:VEVENT
END:VCALENDAR