BEGIN:VCALENDAR
PRODID:-//Microsoft Corporation//Outlook 12.0 MIMEDIR//EN
VERSION:2.0
METHOD:PUBLISH
BEGIN:VEVENT
CLASS:PUBLIC
ORGANIZER:MAILTO:john.angel@sfcm.edu
DTSTART:20260502T023000Z
LOCATION:Center for New Music, 55 Taylor St SF
PRIORITY:5
UID:20260421T153644Z@https://www.bayimproviser.com/
DTSTAMP:20260421T153644Z
SUMMARY:A collection of contemporary new music originating from Indonesian composers. Solo works by Dewa Alit, including an American premiere, along with a new duo by Dion Nataraja, and improvised sets from aQarawaQ (Putu Tangkas) and the Berkeley Banjar residents (Ida Bagus Made Widnyana, Ida Ayu Wayan Arya Satyani, and Graham Viegut).
DESCRIPTION:A collection of contemporary new music originating from Indonesian composers. Solo works by Dewa Alit, including an American premiere, along with a new duo by Dion Nataraja, and improvised sets from aQarawaQ (Putu Tangkas) and the Berkeley Banjar residents (Ida Bagus Made Widnyana, Ida Ayu Wayan Arya Satyani, and Graham Viegut).
END:VEVENT
END:VCALENDAR